BEGIN:VCALENDAR
VERSION:2.0
PRODID:-//Oakland Valley Race Park - ECPv6.15.20//NONSGML v1.0//EN
CALSCALE:GREGORIAN
METHOD:PUBLISH
X-ORIGINAL-URL:https://ovrp.net
X-WR-CALDESC:Events for Oakland Valley Race Park
REFRESH-INTERVAL;VALUE=DURATION:PT1H
X-Robots-Tag:noindex
X-PUBLISHED-TTL:PT1H
BEGIN:VTIMEZONE
TZID:America/New_York
BEGIN:DAYLIGHT
TZOFFSETFROM:-0500
TZOFFSETTO:-0400
TZNAME:EDT
DTSTART:20240310T070000
END:DAYLIGHT
BEGIN:STANDARD
TZOFFSETFROM:-0400
TZOFFSETTO:-0500
TZNAME:EST
DTSTART:20241103T060000
END:STANDARD
BEGIN:DAYLIGHT
TZOFFSETFROM:-0500
TZOFFSETTO:-0400
TZNAME:EDT
DTSTART:20250309T070000
END:DAYLIGHT
BEGIN:STANDARD
TZOFFSETFROM:-0400
TZOFFSETTO:-0500
TZNAME:EST
DTSTART:20251102T060000
END:STANDARD
BEGIN:DAYLIGHT
TZOFFSETFROM:-0500
TZOFFSETTO:-0400
TZNAME:EDT
DTSTART:20260308T070000
END:DAYLIGHT
BEGIN:STANDARD
TZOFFSETFROM:-0400
TZOFFSETTO:-0500
TZNAME:EST
DTSTART:20261101T060000
END:STANDARD
END:VTIMEZONE
BEGIN:VEVENT
DTSTART;VALUE=DATE:20250402
DTEND;VALUE=DATE:20250403
DTSTAMP:20260419T085232
CREATED:20250221T170908Z
LAST-MODIFIED:20250221T170908Z
UID:23432-1743552000-1743638399@ovrp.net
SUMMARY:OPENING DAY
DESCRIPTION:
URL:https://ovrp.net/event/opening-day-3/
LOCATION:Oakland Valley Race Park\, Oakland Valley Race Park\, 305 Oakland Valley Road\, Cuddebackville\, NY\, 12729\, United States
END:VEVENT
BEGIN:VEVENT
DTSTART;TZID=America/New_York:20250404T100000
DTEND;TZID=America/New_York:20250406T180000
DTSTAMP:20260419T085232
CREATED:20250221T170959Z
LAST-MODIFIED:20250409T145607Z
UID:23434-1743760800-1743962400@ovrp.net
SUMMARY:CLOSED WEEKEND
DESCRIPTION:
URL:https://ovrp.net/event/open-practice-41/
LOCATION:Oakland Valley Race Park\, Oakland Valley Race Park\, 305 Oakland Valley Road\, Cuddebackville\, NY\, 12729\, United States
END:VEVENT
BEGIN:VEVENT
DTSTART;VALUE=DATE:20250412
DTEND;VALUE=DATE:20250413
DTSTAMP:20260419T085232
CREATED:20250221T171029Z
LAST-MODIFIED:20250221T171029Z
UID:23436-1744416000-1744502399@ovrp.net
SUMMARY:KARTS ONLY RACE PRACTICE
DESCRIPTION:
URL:https://ovrp.net/event/karts-only-race-practice-8/
LOCATION:Oakland Valley Race Park\, Oakland Valley Race Park\, 305 Oakland Valley Road\, Cuddebackville\, NY\, 12729\, United States
END:VEVENT
BEGIN:VEVENT
DTSTART;TZID=America/New_York:20250413T090000
DTEND;TZID=America/New_York:20250413T170000
DTSTAMP:20260419T085232
CREATED:20250221T171104Z
LAST-MODIFIED:20250221T171132Z
UID:23438-1744534800-1744563600@ovrp.net
SUMMARY:CLUB RACE #1
DESCRIPTION:
URL:https://ovrp.net/event/club-race-1-3/
LOCATION:Oakland Valley Race Park\, Oakland Valley Race Park\, 305 Oakland Valley Road\, Cuddebackville\, NY\, 12729\, United States
END:VEVENT
BEGIN:VEVENT
DTSTART;VALUE=DATE:20250414
DTEND;VALUE=DATE:20250417
DTSTAMP:20260419T085232
CREATED:20250221T171225Z
LAST-MODIFIED:20250221T171225Z
UID:23440-1744588800-1744847999@ovrp.net
SUMMARY:PDH16 RACE SCHOOL
DESCRIPTION:
URL:https://ovrp.net/event/pdh16-race-school/
LOCATION:Oakland Valley Race Park\, Oakland Valley Race Park\, 305 Oakland Valley Road\, Cuddebackville\, NY\, 12729\, United States
END:VEVENT
BEGIN:VEVENT
DTSTART;VALUE=DATE:20250419
DTEND;VALUE=DATE:20250421
DTSTAMP:20260419T085232
CREATED:20250221T171254Z
LAST-MODIFIED:20250221T171254Z
UID:23442-1745020800-1745193599@ovrp.net
SUMMARY:OPEN PRACTICE
DESCRIPTION:
URL:https://ovrp.net/event/open-practice-42/
LOCATION:Oakland Valley Race Park\, Oakland Valley Race Park\, 305 Oakland Valley Road\, Cuddebackville\, NY\, 12729\, United States
END:VEVENT
BEGIN:VEVENT
DTSTART;VALUE=DATE:20250425
DTEND;VALUE=DATE:20250428
DTSTAMP:20260419T085232
CREATED:20250221T171321Z
LAST-MODIFIED:20250221T171321Z
UID:23444-1745539200-1745798399@ovrp.net
SUMMARY:CLOSED WEEKEND
DESCRIPTION:
URL:https://ovrp.net/event/closed-weekend-8/
LOCATION:NY
END:VEVENT
END:VCALENDAR