BEGIN:VCALENDAR
VERSION:2.0
PRODID:-//Oakland Valley Race Park - ECPv6.15.20//NONSGML v1.0//EN
CALSCALE:GREGORIAN
METHOD:PUBLISH
X-ORIGINAL-URL:https://ovrp.net
X-WR-CALDESC:Events for Oakland Valley Race Park
REFRESH-INTERVAL;VALUE=DURATION:PT1H
X-Robots-Tag:noindex
X-PUBLISHED-TTL:PT1H
BEGIN:VTIMEZONE
TZID:America/New_York
BEGIN:DAYLIGHT
TZOFFSETFROM:-0500
TZOFFSETTO:-0400
TZNAME:EDT
DTSTART:20240310T070000
END:DAYLIGHT
BEGIN:STANDARD
TZOFFSETFROM:-0400
TZOFFSETTO:-0500
TZNAME:EST
DTSTART:20241103T060000
END:STANDARD
BEGIN:DAYLIGHT
TZOFFSETFROM:-0500
TZOFFSETTO:-0400
TZNAME:EDT
DTSTART:20250309T070000
END:DAYLIGHT
BEGIN:STANDARD
TZOFFSETFROM:-0400
TZOFFSETTO:-0500
TZNAME:EST
DTSTART:20251102T060000
END:STANDARD
BEGIN:DAYLIGHT
TZOFFSETFROM:-0500
TZOFFSETTO:-0400
TZNAME:EDT
DTSTART:20260308T070000
END:DAYLIGHT
BEGIN:STANDARD
TZOFFSETFROM:-0400
TZOFFSETTO:-0500
TZNAME:EST
DTSTART:20261101T060000
END:STANDARD
END:VTIMEZONE
BEGIN:VEVENT
DTSTART;VALUE=DATE:20251004
DTEND;VALUE=DATE:20251005
DTSTAMP:20260419T102956
CREATED:20250221T180026Z
LAST-MODIFIED:20250221T180026Z
UID:23513-1759536000-1759622399@ovrp.net
SUMMARY:OPEN PRACTICE
DESCRIPTION:
URL:https://ovrp.net/event/open-practice-57/
LOCATION:Oakland Valley Race Park\, Oakland Valley Race Park\, 305 Oakland Valley Road\, Cuddebackville\, NY\, 12729\, United States
END:VEVENT
BEGIN:VEVENT
DTSTART;TZID=America/New_York:20251005T090000
DTEND;TZID=America/New_York:20251005T180000
DTSTAMP:20260419T102956
CREATED:20250221T180228Z
LAST-MODIFIED:20250221T180228Z
UID:23515-1759654800-1759687200@ovrp.net
SUMMARY:CLUB RACE #11
DESCRIPTION:
URL:https://ovrp.net/event/club-race-11-3/
LOCATION:Oakland Valley Race Park\, Oakland Valley Race Park\, 305 Oakland Valley Road\, Cuddebackville\, NY\, 12729\, United States
END:VEVENT
BEGIN:VEVENT
DTSTART;VALUE=DATE:20251011
DTEND;VALUE=DATE:20251012
DTSTAMP:20260419T102956
CREATED:20250221T180258Z
LAST-MODIFIED:20250221T180258Z
UID:23517-1760140800-1760227199@ovrp.net
SUMMARY:OPEN PRACTICE
DESCRIPTION:
URL:https://ovrp.net/event/open-practice-58/
LOCATION:Oakland Valley Race Park\, Oakland Valley Race Park\, 305 Oakland Valley Road\, Cuddebackville\, NY\, 12729\, United States
END:VEVENT
BEGIN:VEVENT
DTSTART;TZID=America/New_York:20251012T090000
DTEND;TZID=America/New_York:20251012T180000
DTSTAMP:20260419T102956
CREATED:20250221T180352Z
LAST-MODIFIED:20250221T180352Z
UID:23519-1760259600-1760292000@ovrp.net
SUMMARY:CLUB RACE #12
DESCRIPTION:
URL:https://ovrp.net/event/club-race-12-3/
LOCATION:Oakland Valley Race Park\, Oakland Valley Race Park\, 305 Oakland Valley Road\, Cuddebackville\, NY\, 12729\, United States
END:VEVENT
BEGIN:VEVENT
DTSTART;VALUE=DATE:20251017
DTEND;VALUE=DATE:20251020
DTSTAMP:20260419T102956
CREATED:20250221T180539Z
LAST-MODIFIED:20250221T180539Z
UID:23521-1760659200-1760918399@ovrp.net
SUMMARY:OPEN PRACTICE
DESCRIPTION:
URL:https://ovrp.net/event/open-practice-59/
LOCATION:Oakland Valley Race Park\, Oakland Valley Race Park\, 305 Oakland Valley Road\, Cuddebackville\, NY\, 12729\, United States
END:VEVENT
BEGIN:VEVENT
DTSTART;VALUE=DATE:20251025
DTEND;VALUE=DATE:20251026
DTSTAMP:20260419T102956
CREATED:20250221T180607Z
LAST-MODIFIED:20250221T180607Z
UID:23523-1761350400-1761436799@ovrp.net
SUMMARY:OPEN PRACTICE
DESCRIPTION:
URL:https://ovrp.net/event/open-practice-60/
LOCATION:Oakland Valley Race Park\, Oakland Valley Race Park\, 305 Oakland Valley Road\, Cuddebackville\, NY\, 12729\, United States
END:VEVENT
BEGIN:VEVENT
DTSTART;TZID=America/New_York:20251026T090000
DTEND;TZID=America/New_York:20251026T180000
DTSTAMP:20260419T102956
CREATED:20250221T180705Z
LAST-MODIFIED:20250221T180705Z
UID:23525-1761469200-1761501600@ovrp.net
SUMMARY:CLUB RACE #13
DESCRIPTION:
URL:https://ovrp.net/event/club-race-13-3/
LOCATION:Oakland Valley Race Park\, Oakland Valley Race Park\, 305 Oakland Valley Road\, Cuddebackville\, NY\, 12729\, United States
END:VEVENT
END:VCALENDAR